BEGIN:VCALENDAR
PRODID:-//eluceo/ical//2.0/EN
VERSION:2.0
CALSCALE:GREGORIAN
BEGIN:VEVENT
UID:hey.bayern.682966.6457980
DTSTAMP:20260421T210543Z
SUMMARY:Zauber Tanz Show
DTSTART;TZID=Europe/Berlin:20260522T190000
DTEND;TZID=Europe/Berlin:20260522T235959
LOCATION:Rathausgasse 3\, 8160 Weiz\, Österreich
GEO:47.218399;15.622867
X-APPLE-STRUCTURED-LOCATION;VALUE=URI;X-ADDRESS=Rathausgasse 3\, 8160 Weiz\
 , Österreich;X-APPLE-RADIUS=49;X-TITLE=:geo:47.218399,15.622867
URL;VALUE=URI:https://hey.bayern/events/682966
END:VEVENT
END:VCALENDAR
