BEGIN:VCALENDAR
PRODID:-//eluceo/ical//2.0/EN
VERSION:2.0
CALSCALE:GREGORIAN
BEGIN:VEVENT
UID:hey.bayern.682550.6455985
DTSTAMP:20260422T031135Z
SUMMARY:Eröffnung der Ludothek in Stubenberg
DTSTART;TZID=Europe/Berlin:20260501T150000
DTEND;TZID=Europe/Berlin:20260501T235959
LOCATION:Stubenberg 149\, 8223 Stubenberg am See\, Österreich
URL;VALUE=URI:https://hey.bayern/events/682550
END:VEVENT
END:VCALENDAR
