BEGIN:VCALENDAR
PRODID:-//eluceo/ical//2.0/EN
VERSION:2.0
CALSCALE:GREGORIAN
BEGIN:VEVENT
UID:hey.bayern.679022.6430254
DTSTAMP:20260422T030612Z
SUMMARY:Anpaddeln auf der Mur
DTSTART;TZID=Europe/Berlin:20260501T100000
DTEND;TZID=Europe/Berlin:20260501T235959
URL;VALUE=URI:https://hey.bayern/events/679022
END:VEVENT
END:VCALENDAR
