BEGIN:VCALENDAR
PRODID:-//eluceo/ical//2.0/EN
VERSION:2.0
CALSCALE:GREGORIAN
BEGIN:VEVENT
UID:hey.bayern.678845.6428685
DTSTAMP:20260419T173054Z
SUMMARY:Breathworkkurs in Nüziders
DTSTART;TZID=Europe/Berlin:20261111T190000
DTEND;TZID=Europe/Berlin:20261111T210000
LOCATION:berlinger fitness training\, 6714 Nüziders\, Österreich
URL;VALUE=URI:https://hey.bayern/events/678845
END:VEVENT
END:VCALENDAR
