BEGIN:VCALENDAR
PRODID:-//eluceo/ical//2.0/EN
VERSION:2.0
CALSCALE:GREGORIAN
BEGIN:VEVENT
UID:hey.bayern.677767.6552554
DTSTAMP:20260422T130512Z
SUMMARY:Summer-Surf Opening am Stubenbergsee
DTSTART;TZID=Europe/Berlin:20260503T100000
DTEND;TZID=Europe/Berlin:20260503T235959
LOCATION:Buchberg bei Herberstein 77\, 8223 Stubenberg am See\, Österreich
URL;VALUE=URI:https://hey.bayern/events/677767
END:VEVENT
END:VCALENDAR
