BEGIN:VCALENDAR
PRODID:-//eluceo/ical//2.0/EN
VERSION:2.0
CALSCALE:GREGORIAN
BEGIN:VEVENT
UID:hey.bayern.675861.6402214
DTSTAMP:20260419T140710Z
SUMMARY:Trinkwasserbrunnen-Rallye
DTSTART;TZID=Europe/Berlin:20260703T140000
DTEND;TZID=Europe/Berlin:20260703T180000
URL;VALUE=URI:https://hey.bayern/events/675861
END:VEVENT
END:VCALENDAR
