BEGIN:VCALENDAR
PRODID:-//eluceo/ical//2.0/EN
VERSION:2.0
CALSCALE:GREGORIAN
BEGIN:VEVENT
UID:hey.bayern.673838.6394568
DTSTAMP:20260419T172307Z
SUMMARY:Hofführung
DTSTART;TZID=Europe/Berlin:20261111T170000
DTEND;TZID=Europe/Berlin:20261112T170000
LOCATION:Galgenulerstr. 37\, 6791 St. Gallenkirch\, Österreich
GEO:47.021660;9.967240
X-APPLE-STRUCTURED-LOCATION;VALUE=URI;X-ADDRESS=Galgenulerstr. 37\, 6791 St
 . Gallenkirch\, Österreich;X-APPLE-RADIUS=49;X-TITLE=:geo:47.021660,9.967
 240
URL;VALUE=URI:https://hey.bayern/events/673838
END:VEVENT
END:VCALENDAR
