BEGIN:VCALENDAR
PRODID:-//eluceo/ical//2.0/EN
VERSION:2.0
CALSCALE:GREGORIAN
BEGIN:VEVENT
UID:hey.bayern.671268.6549980
DTSTAMP:20260422T020512Z
SUMMARY:Apfelblütentour in Markt Hartmannsdorf
DTSTART;TZID=Europe/Berlin:20260503T100000
DTEND;TZID=Europe/Berlin:20260503T235959
LOCATION:Hauptstraße 379\, 8311 Markt Hartmannsdorf\, Österreich
GEO:47.052795;15.845284
X-APPLE-STRUCTURED-LOCATION;VALUE=URI;X-ADDRESS=Hauptstraße 379\, 8311 Mar
 kt Hartmannsdorf\, Österreich;X-APPLE-RADIUS=49;X-TITLE=:geo:47.052795,15
 .845284
URL;VALUE=URI:https://hey.bayern/events/671268
END:VEVENT
END:VCALENDAR
