BEGIN:VCALENDAR
PRODID:-//eluceo/ical//2.0/EN
VERSION:2.0
CALSCALE:GREGORIAN
BEGIN:VEVENT
UID:hey.bayern.668966.6338759
DTSTAMP:20260419T172237Z
SUMMARY:KUB Kinderkunst
DTSTART;TZID=Europe/Berlin:20260419T100000
DTEND;TZID=Europe/Berlin:20260419T120000
LOCATION:Karl-Tizian-Platz\, 6900 Bregenz\, Österreich
GEO:47.504790;9.747240
X-APPLE-STRUCTURED-LOCATION;VALUE=URI;X-ADDRESS=Karl-Tizian-Platz\, 6900 Br
 egenz\, Österreich;X-APPLE-RADIUS=49;X-TITLE=:geo:47.504790,9.747240
URL;VALUE=URI:https://hey.bayern/events/668966
END:VEVENT
END:VCALENDAR
