BEGIN:VCALENDAR
PRODID:-//eluceo/ical//2.0/EN
VERSION:2.0
CALSCALE:GREGORIAN
BEGIN:VEVENT
UID:hey.bayern.664012.6251208
DTSTAMP:20260421T223451Z
SUMMARY:Ausstellung: Skijak – Der Traum vom Gehen über das Wasser
DTSTART;TZID=Europe/Berlin:20260602T090000
DTEND;TZID=Europe/Berlin:20260602T170000
LOCATION:KulturQuartier\, Leopoldine-Pohl-Platz 1\, 8700 Leoben\, Österrei
 ch
GEO:47.380705;15.091677
X-APPLE-STRUCTURED-LOCATION;VALUE=URI;X-ADDRESS=KulturQuartier\, Leopoldine
 -Pohl-Platz 1\, 8700 Leoben\, Österreich;X-APPLE-RADIUS=49;X-TITLE=:geo:4
 7.380705,15.091677
URL;VALUE=URI:https://hey.bayern/events/664012
END:VEVENT
END:VCALENDAR
