BEGIN:VCALENDAR
PRODID:-//eluceo/ical//2.0/EN
VERSION:2.0
CALSCALE:GREGORIAN
BEGIN:VEVENT
UID:hey.bayern.659362.6192401
DTSTAMP:20260419T192700Z
SUMMARY:Bregenzer Frühling 2026 | aktionstheater ensemble // HUMAN - Ich b
 in Mensch
DTSTART;TZID=Europe/Berlin:20260612T200000
DTEND;TZID=Europe/Berlin:20260613T200000
LOCATION:Mariahilfstraße 29\, 6900 Bregenz\, Österreich
GEO:47.495490;9.729650
X-APPLE-STRUCTURED-LOCATION;VALUE=URI;X-ADDRESS=Mariahilfstraße 29\, 6900 
 Bregenz\, Österreich;X-APPLE-RADIUS=49;X-TITLE=:geo:47.495490,9.729650
URL;VALUE=URI:https://hey.bayern/events/659362
END:VEVENT
END:VCALENDAR
