BEGIN:VCALENDAR
PRODID:-//eluceo/ical//2.0/EN
VERSION:2.0
CALSCALE:GREGORIAN
BEGIN:VEVENT
UID:hey.bayern.657414.6551274
DTSTAMP:20260422T001109Z
SUMMARY:Demenz-Café: VergissMeinNicht
DTSTART;TZID=Europe/Berlin:20260513T140000
DTEND;TZID=Europe/Berlin:20260513T160000
LOCATION:Begegnungszentrum Lerchenfeld\, Europaplatz 1b/1.OG\, 8700 Leoben\
 , Österreich
URL;VALUE=URI:https://hey.bayern/events/657414
END:VEVENT
END:VCALENDAR
