BEGIN:VCALENDAR
PRODID:-//eluceo/ical//2.0/EN
VERSION:2.0
CALSCALE:GREGORIAN
BEGIN:VEVENT
UID:hey.bayern.648392.6404258
DTSTAMP:20260422T030504Z
SUMMARY:Weihnachtswunschkonzert in St. Anna/A.
DTSTART;TZID=Europe/Berlin:20260501T080000
DTEND;TZID=Europe/Berlin:20260501T235959
LOCATION:8354 St. Anna am Aigen\, Österreich
GEO:46.820897;15.933862
X-APPLE-STRUCTURED-LOCATION;VALUE=URI;X-ADDRESS=8354 St. Anna am Aigen\, Ö
 sterreich;X-APPLE-RADIUS=49;X-TITLE=:geo:46.820897,15.933862
URL;VALUE=URI:https://hey.bayern/events/648392
END:VEVENT
END:VCALENDAR
