BEGIN:VCALENDAR
PRODID:-//eluceo/ical//2.0/EN
VERSION:2.0
CALSCALE:GREGORIAN
BEGIN:VEVENT
UID:hey.bayern.629186.5990683
DTSTAMP:20260421T214754Z
SUMMARY:Ensemble Vokal „Life could be a dream“
DTSTART;TZID=Europe/Berlin:20260520T000000
DTEND;TZID=Europe/Berlin:20260521T000000
URL;VALUE=URI:https://hey.bayern/events/629186
END:VEVENT
END:VCALENDAR
