BEGIN:VCALENDAR
PRODID:-//eluceo/ical//2.0/EN
VERSION:2.0
CALSCALE:GREGORIAN
BEGIN:VEVENT
UID:hey.bayern.628587.6556326
DTSTAMP:20260423T012950Z
SUMMARY:Frühschoppen auf der Kogelalm
DTSTART;TZID=Europe/Berlin:20260927T110000
DTEND;TZID=Europe/Berlin:20260927T140000
LOCATION:Grießkareck 7\, 5602 Wagrain\, Österreich
GEO:47.326172;13.345991
X-APPLE-STRUCTURED-LOCATION;VALUE=URI;X-ADDRESS=Grießkareck 7\, 5602 Wagra
 in\, Österreich;X-APPLE-RADIUS=49;X-TITLE=:geo:47.326172,13.345991
URL;VALUE=URI:https://hey.bayern/events/628587
END:VEVENT
END:VCALENDAR
