BEGIN:VCALENDAR
PRODID:-//eluceo/ical//2.0/EN
VERSION:2.0
CALSCALE:GREGORIAN
BEGIN:VEVENT
UID:hey.bayern.623324.6548750
DTSTAMP:20260419T192251Z
SUMMARY:Historische Stadtspaziergänge
DTSTART;TZID=Europe/Berlin:20260509T110000
DTEND;TZID=Europe/Berlin:20260509T235959
LOCATION:Herrengasse 6\, 8230 Hartberg\, Österreich
GEO:47.280466;15.967215
X-APPLE-STRUCTURED-LOCATION;VALUE=URI;X-ADDRESS=Herrengasse 6\, 8230 Hartbe
 rg\, Österreich;X-APPLE-RADIUS=49;X-TITLE=:geo:47.280466,15.967215
URL;VALUE=URI:https://hey.bayern/events/623324
END:VEVENT
END:VCALENDAR
