BEGIN:VCALENDAR
PRODID:-//eluceo/ical//2.0/EN
VERSION:2.0
CALSCALE:GREGORIAN
BEGIN:VEVENT
UID:hey.bayern.593291.6468493
DTSTAMP:20260421T210524Z
SUMMARY:Das Opernstudio zu Gast im Musikverein Graz
DTSTART;TZID=Europe/Berlin:20260522T193000
DTEND;TZID=Europe/Berlin:20260522T235959
LOCATION:Sparkassenplatz 3\, 8010 Graz\, Österreich
GEO:47.069572;15.437760
X-APPLE-STRUCTURED-LOCATION;VALUE=URI;X-ADDRESS=Sparkassenplatz 3\, 8010 Gr
 az\, Österreich;X-APPLE-RADIUS=49;X-TITLE=:geo:47.069572,15.437760
URL;VALUE=URI:https://hey.bayern/events/593291
END:VEVENT
END:VCALENDAR
