BEGIN:VCALENDAR
PRODID:-//eluceo/ical//2.0/EN
VERSION:2.0
CALSCALE:GREGORIAN
BEGIN:VEVENT
UID:hey.bayern.592940.5600989
DTSTAMP:20260421T210652Z
SUMMARY:HORAK spielt Ostbahn
DTSTART;TZID=Europe/Berlin:20260523T193000
DTEND;TZID=Europe/Berlin:20260523T235959
URL;VALUE=URI:https://hey.bayern/events/592940
END:VEVENT
END:VCALENDAR
