BEGIN:VCALENDAR
PRODID:-//eluceo/ical//2.0/EN
VERSION:2.0
CALSCALE:GREGORIAN
BEGIN:VEVENT
UID:hey.bayern.585230.6554277
DTSTAMP:20260422T030605Z
SUMMARY:Frischer Marchfeldspargel
DTSTART;TZID=Europe/Berlin:20260510T120000
DTEND;TZID=Europe/Berlin:20260510T200000
LOCATION:Altaussee 21\, 8992 Altaussee\, Österreich
GEO:47.639251;13.762994
X-APPLE-STRUCTURED-LOCATION;VALUE=URI;X-ADDRESS=Altaussee 21\, 8992 Altauss
 ee\, Österreich;X-APPLE-RADIUS=49;X-TITLE=:geo:47.639251,13.762994
URL;VALUE=URI:https://hey.bayern/events/585230
END:VEVENT
END:VCALENDAR
