BEGIN:VCALENDAR
PRODID:-//eluceo/ical//2.0/EN
VERSION:2.0
CALSCALE:GREGORIAN
BEGIN:VEVENT
UID:hey.bayern.581888.6554303
DTSTAMP:20260422T031137Z
SUMMARY:Frühstücken in derJausenstation S'Kragl
DTSTART;TZID=Europe/Berlin:20260621T090000
DTEND;TZID=Europe/Berlin:20260621T235959
LOCATION:Neuhofen beim Kraglgut\, 8983 Bad Mitterndorf\, Österreich
GEO:47.539455;13.912930
X-APPLE-STRUCTURED-LOCATION;VALUE=URI;X-ADDRESS=Neuhofen beim Kraglgut\, 89
 83 Bad Mitterndorf\, Österreich;X-APPLE-RADIUS=49;X-TITLE=:geo:47.539455,
 13.912930
URL;VALUE=URI:https://hey.bayern/events/581888
END:VEVENT
END:VCALENDAR
