BEGIN:VCALENDAR
PRODID:-//eluceo/ical//2.0/EN
VERSION:2.0
CALSCALE:GREGORIAN
BEGIN:VEVENT
UID:hey.bayern.581838.6556135
DTSTAMP:20260423T220447Z
SUMMARY:1. Maifeier am Treffenboden
DTSTART;TZID=Europe/Berlin:20260501T110000
DTEND;TZID=Europe/Berlin:20260501T170000
URL;VALUE=URI:https://hey.bayern/events/581838
END:VEVENT
END:VCALENDAR
