BEGIN:VCALENDAR
PRODID:-//eluceo/ical//2.0/EN
VERSION:2.0
CALSCALE:GREGORIAN
BEGIN:VEVENT
UID:hey.bayern.580097.6556226
DTSTAMP:20260423T004452Z
SUMMARY:Dorffest
DTSTART;TZID=Europe/Berlin:20260501T140000
DTEND;TZID=Europe/Berlin:20260501T235959
LOCATION:Saag 22\, 5442 Rußbach - Dachstein West\, Österreich
URL;VALUE=URI:https://hey.bayern/events/580097
END:VEVENT
END:VCALENDAR
