BEGIN:VCALENDAR
PRODID:-//eluceo/ical//2.0/EN
VERSION:2.0
CALSCALE:GREGORIAN
BEGIN:VEVENT
UID:hey.bayern.579434.6197562
DTSTAMP:20260422T030745Z
SUMMARY:Familienwandertag
DTSTART;TZID=Europe/Berlin:20260501T090000
DTEND;TZID=Europe/Berlin:20260501T235959
LOCATION:Zeil 90\, 8223 Stubenberg am See\, Österreich
GEO:47.257040;15.809244
X-APPLE-STRUCTURED-LOCATION;VALUE=URI;X-ADDRESS=Zeil 90\, 8223 Stubenberg a
 m See\, Österreich;X-APPLE-RADIUS=49;X-TITLE=:geo:47.257040,15.809244
URL;VALUE=URI:https://hey.bayern/events/579434
END:VEVENT
END:VCALENDAR
