BEGIN:VCALENDAR
PRODID:-//eluceo/ical//2.0/EN
VERSION:2.0
CALSCALE:GREGORIAN
BEGIN:VEVENT
UID:hey.bayern.574955.6550831
DTSTAMP:20260419T122733Z
SUMMARY:Schaustecken einer Narzissenfigur bei der Kohlröserlhütte
DTSTART;TZID=Europe/Berlin:20260530T100000
DTEND;TZID=Europe/Berlin:20260530T235959
LOCATION:Ödenseestraße 144\, 8990 Bad Aussee\, Österreich
GEO:47.563406;13.821590
X-APPLE-STRUCTURED-LOCATION;VALUE=URI;X-ADDRESS=Ödenseestraße 144\, 8990 
 Bad Aussee\, Österreich;X-APPLE-RADIUS=49;X-TITLE=:geo:47.563406,13.82159
 0
URL;VALUE=URI:https://hey.bayern/events/574955
END:VEVENT
END:VCALENDAR
