BEGIN:VCALENDAR
PRODID:-//eluceo/ical//2.0/EN
VERSION:2.0
CALSCALE:GREGORIAN
BEGIN:VEVENT
UID:hey.bayern.574621.6556369
DTSTAMP:20260423T084803Z
SUMMARY:Geführte Wanderung: Die Kraft des Wassers im Kapruner Tal
DTSTART;TZID=Europe/Berlin:20260610T090000
DTEND;TZID=Europe/Berlin:20260610T130000
LOCATION:Kesselfallstraße 98\, 5710 Kaprun\, Österreich
GEO:47.269345;12.747514
X-APPLE-STRUCTURED-LOCATION;VALUE=URI;X-ADDRESS=Kesselfallstraße 98\, 5710
  Kaprun\, Österreich;X-APPLE-RADIUS=49;X-TITLE=:geo:47.269345,12.747514
URL;VALUE=URI:https://hey.bayern/events/574621
END:VEVENT
END:VCALENDAR
