BEGIN:VCALENDAR
PRODID:-//eluceo/ical//2.0/EN
VERSION:2.0
CALSCALE:GREGORIAN
BEGIN:VEVENT
UID:hey.bayern.547132.4872122
DTSTAMP:20260422T010428Z
SUMMARY:Daubnjagan - Nostalgie Eisstockturnier
DTSTART;TZID=Europe/Berlin:20261214T080000
DTEND;TZID=Europe/Berlin:20261215T080000
LOCATION:Mauthen 115\, 9640 Kötschach-Mauthen\, Österreich
URL;VALUE=URI:https://hey.bayern/events/547132
END:VEVENT
END:VCALENDAR
