BEGIN:VCALENDAR
PRODID:-//eluceo/ical//2.0/EN
VERSION:2.0
CALSCALE:GREGORIAN
BEGIN:VEVENT
UID:hey.bayern.526492.6442695
DTSTAMP:20260422T112832Z
SUMMARY:Offener Frauentreff: Gut vorbereitet ins Arztgespräch
DTSTART;TZID=Europe/Berlin:20260121T093000
DTEND;TZID=Europe/Berlin:20260121T093000
LOCATION:Marktplatz 3\, 4910 Ried im Innkreis\, Österreich
GEO:48.209527;13.485096
X-APPLE-STRUCTURED-LOCATION;VALUE=URI;X-ADDRESS=Marktplatz 3\, 4910 Ried im
  Innkreis\, Österreich;X-APPLE-RADIUS=49;X-TITLE=:geo:48.209527,13.485096
URL;VALUE=URI:https://hey.bayern/events/526492
END:VEVENT
END:VCALENDAR
