BEGIN:VCALENDAR
PRODID:-//eluceo/ical//2.0/EN
VERSION:2.0
CALSCALE:GREGORIAN
BEGIN:VEVENT
UID:hey.bayern.524752.6223155
DTSTAMP:20260419T140431Z
SUMMARY:Musikprobe
DTSTART;TZID=Europe/Berlin:20261106T200000
DTEND;TZID=Europe/Berlin:20261106T220000
LOCATION:Heimboden 114\, 6888 Schröcken\, Österreich
GEO:47.256789;10.093740
X-APPLE-STRUCTURED-LOCATION;VALUE=URI;X-ADDRESS=Heimboden 114\, 6888 Schrö
 cken\, Österreich;X-APPLE-RADIUS=49;X-TITLE=:geo:47.256789,10.093740
URL;VALUE=URI:https://hey.bayern/events/524752
END:VEVENT
END:VCALENDAR
