BEGIN:VCALENDAR
PRODID:-//eluceo/ical//2.0/EN
VERSION:2.0
CALSCALE:GREGORIAN
BEGIN:VEVENT
UID:hey.bayern.508132.6551796
DTSTAMP:20260419T154621Z
SUMMARY:Klostertal Museum
DTSTART;TZID=Europe/Berlin:20260619T140000
DTEND;TZID=Europe/Berlin:20260619T170000
LOCATION:Obere Gasse 11\, 6752 Wald am Arlberg\, Österreich
GEO:47.130274;10.030581
X-APPLE-STRUCTURED-LOCATION;VALUE=URI;X-ADDRESS=Obere Gasse 11\, 6752 Wald 
 am Arlberg\, Österreich;X-APPLE-RADIUS=49;X-TITLE=:geo:47.130274,10.03058
 1
URL;VALUE=URI:https://hey.bayern/events/508132
END:VEVENT
END:VCALENDAR
