BEGIN:VCALENDAR
PRODID:-//eluceo/ical//2.0/EN
VERSION:2.0
CALSCALE:GREGORIAN
BEGIN:VEVENT
UID:hey.bayern.500994.6554601
DTSTAMP:20260422T072651Z
SUMMARY:Magier Christoph Kulmer: BEST OF
DTSTART;TZID=Europe/Berlin:20260509T203000
DTEND;TZID=Europe/Berlin:20260509T235959
LOCATION:Pachern-Hauptstraße 97\, 8075 Hart bei Graz\, Österreich
GEO:47.200142;15.337416
X-APPLE-STRUCTURED-LOCATION;VALUE=URI;X-ADDRESS=Pachern-Hauptstraße 97\, 8
 075 Hart bei Graz\, Österreich;X-APPLE-RADIUS=49;X-TITLE=:geo:47.200142,1
 5.337416
URL;VALUE=URI:https://hey.bayern/events/500994
END:VEVENT
END:VCALENDAR
