BEGIN:VCALENDAR
PRODID:-//eluceo/ical//2.0/EN
VERSION:2.0
CALSCALE:GREGORIAN
BEGIN:VEVENT
UID:hey.bayern.495262.6038364
DTSTAMP:20260423T071915Z
SUMMARY:Mutter - Tochter Training
DTSTART;TZID=Europe/Berlin:20260516T000000
DTEND;TZID=Europe/Berlin:20260516T020000
LOCATION:Hütten 39\, 5771 Leogang\, Österreich
GEO:47.438839;12.718989
X-APPLE-STRUCTURED-LOCATION;VALUE=URI;X-ADDRESS=Hütten 39\, 5771 Leogang\,
  Österreich;X-APPLE-RADIUS=49;X-TITLE=:geo:47.438839,12.718989
URL;VALUE=URI:https://hey.bayern/events/495262
END:VEVENT
END:VCALENDAR
