BEGIN:VCALENDAR
PRODID:-//eluceo/ical//2.0/EN
VERSION:2.0
CALSCALE:GREGORIAN
BEGIN:VEVENT
UID:hey.bayern.492404.6557369
DTSTAMP:20260426T003222Z
SUMMARY:Mein erster 3000er- Geführte Gipfeltour
DTSTART;TZID=Europe/Berlin:20260923T090000
DTEND;TZID=Europe/Berlin:20260923T140000
LOCATION:Kitzsteinhornplatz 1a\, 5710 Kaprun\, Österreich
GEO:47.229349;12.726624
X-APPLE-STRUCTURED-LOCATION;VALUE=URI;X-ADDRESS=Kitzsteinhornplatz 1a\, 571
 0 Kaprun\, Österreich;X-APPLE-RADIUS=49;X-TITLE=:geo:47.229349,12.726624
URL;VALUE=URI:https://hey.bayern/events/492404
END:VEVENT
END:VCALENDAR
