BEGIN:VCALENDAR
PRODID:-//eluceo/ical//2.0/EN
VERSION:2.0
CALSCALE:GREGORIAN
BEGIN:VEVENT
UID:hey.bayern.486766.6549223
DTSTAMP:20260419T151618Z
SUMMARY:Sommerkonzert "Faltenblechzupfa"
DTSTART;TZID=Europe/Berlin:20260714T200000
DTEND;TZID=Europe/Berlin:20260714T235959
LOCATION:Schulstrasse\, 5723 Uttendorf/Weißsee\, Österreich
GEO:47.285091;12.571682
X-APPLE-STRUCTURED-LOCATION;VALUE=URI;X-ADDRESS=Schulstrasse\, 5723 Uttendo
 rf/Weißsee\, Österreich;X-APPLE-RADIUS=49;X-TITLE=:geo:47.285091,12.5716
 82
URL;VALUE=URI:https://hey.bayern/events/486766
END:VEVENT
END:VCALENDAR
