BEGIN:VCALENDAR
PRODID:-//eluceo/ical//2.0/EN
VERSION:2.0
CALSCALE:GREGORIAN
BEGIN:VEVENT
UID:hey.bayern.485172.6533386
DTSTAMP:20260422T030605Z
SUMMARY:Weckruf der Stadtkapelle Bad Aussee
DTSTART;TZID=Europe/Berlin:20260501T070000
DTEND;TZID=Europe/Berlin:20260501T235959
URL;VALUE=URI:https://hey.bayern/events/485172
END:VEVENT
END:VCALENDAR
