BEGIN:VCALENDAR
PRODID:-//eluceo/ical//2.0/EN
VERSION:2.0
CALSCALE:GREGORIAN
BEGIN:VEVENT
UID:hey.bayern.485166.6367627
DTSTAMP:20260419T154945Z
SUMMARY:Wanderung zum Masonwasserfall
DTSTART;TZID=Europe/Berlin:20261021T160000
DTEND;TZID=Europe/Berlin:20261021T200000
LOCATION:Danöfa 125a\, 6754 Klösterle\, Österreich
GEO:47.144549;9.918129
X-APPLE-STRUCTURED-LOCATION;VALUE=URI;X-ADDRESS=Danöfa 125a\, 6754 Klöste
 rle\, Österreich;X-APPLE-RADIUS=49;X-TITLE=:geo:47.144549,9.918129
URL;VALUE=URI:https://hey.bayern/events/485166
END:VEVENT
END:VCALENDAR
