BEGIN:VCALENDAR
PRODID:-//eluceo/ical//2.0/EN
VERSION:2.0
CALSCALE:GREGORIAN
BEGIN:VEVENT
UID:hey.bayern.483335.6555904
DTSTAMP:20260423T201329Z
SUMMARY:Wanderung zum Formarinsee
DTSTART;TZID=Europe/Berlin:20261120T090000
DTEND;TZID=Europe/Berlin:20261120T140000
URL;VALUE=URI:https://hey.bayern/events/483335
END:VEVENT
END:VCALENDAR
