BEGIN:VCALENDAR
PRODID:-//eluceo/ical//2.0/EN
VERSION:2.0
CALSCALE:GREGORIAN
BEGIN:VEVENT
UID:hey.bayern.482778.6554701
DTSTAMP:20260422T020512Z
SUMMARY:Narzissenwanderung in Tauplitz
DTSTART;TZID=Europe/Berlin:20260529T150000
DTEND;TZID=Europe/Berlin:20260529T235959
LOCATION:Tauplitz 70\, 8982 Bad Mitterndorf\, Österreich
GEO:47.562126;14.013585
X-APPLE-STRUCTURED-LOCATION;VALUE=URI;X-ADDRESS=Tauplitz 70\, 8982 Bad Mitt
 erndorf\, Österreich;X-APPLE-RADIUS=49;X-TITLE=:geo:47.562126,14.013585
URL;VALUE=URI:https://hey.bayern/events/482778
END:VEVENT
END:VCALENDAR
