BEGIN:VCALENDAR
PRODID:-//eluceo/ical//2.0/EN
VERSION:2.0
CALSCALE:GREGORIAN
BEGIN:VEVENT
UID:hey.bayern.470606.2373780
DTSTAMP:20260421T163740Z
SUMMARY:Kunsthandwerker- und Hobby_Künstlermarkt
DESCRIPTION:Wolf-Ferrari-Haus - gesamtes Gebäude
DTSTART;TZID=Europe/Berlin:20240310T100000
DTEND;TZID=Europe/Berlin:20240310T170000
LOCATION:Rathausplatz 2\, 85521 Ottobrunn\, Deutschland
GEO:48.064862;11.664595
X-APPLE-STRUCTURED-LOCATION;VALUE=URI;X-ADDRESS=Rathausplatz 2\, 85521 Otto
 brunn\, Deutschland;X-APPLE-RADIUS=49;X-TITLE=:geo:48.064862,11.664595
URL;VALUE=URI:https://hey.bayern/events/470606
END:VEVENT
END:VCALENDAR
