BEGIN:VCALENDAR
PRODID:-//eluceo/ical//2.0/EN
VERSION:2.0
CALSCALE:GREGORIAN
BEGIN:VEVENT
UID:hey.bayern.458422.2121510
DTSTAMP:20260421T163739Z
SUMMARY:Faschingsfete der FG Nabburg
DESCRIPTION:Nordgauhalle
DTSTART;TZID=Europe/Berlin:20240202T200000
DTEND;TZID=Europe/Berlin:20240202T235900
LOCATION:Turnhallenweg 16\, 92507 Nabburg\, Deutschland
GEO:49.450300;12.184290
X-APPLE-STRUCTURED-LOCATION;VALUE=URI;X-ADDRESS=Turnhallenweg 16\, 92507 Na
 bburg\, Deutschland;X-APPLE-RADIUS=49;X-TITLE=:geo:49.450300,12.184290
URL;VALUE=URI:https://hey.bayern/events/458422
END:VEVENT
END:VCALENDAR
