BEGIN:VCALENDAR
PRODID:-//eluceo/ical//2.0/EN
VERSION:2.0
CALSCALE:GREGORIAN
BEGIN:VEVENT
UID:hey.bayern.458367.5753488
DTSTAMP:20260422T010408Z
SUMMARY:Von der Piste ins Gelände
DTSTART;TZID=Europe/Berlin:20261116T093000
DTEND;TZID=Europe/Berlin:20261117T093000
LOCATION:Mauthen 259/6\, 9640 Kötschach-Mauthen\, Österreich
URL;VALUE=URI:https://hey.bayern/events/458367
END:VEVENT
END:VCALENDAR
