BEGIN:VCALENDAR
PRODID:-//eluceo/ical//2.0/EN
VERSION:2.0
CALSCALE:GREGORIAN
BEGIN:VEVENT
UID:hey.bayern.423537.1391455
DTSTAMP:20260423T173642Z
SUMMARY:Entspannungswochenende mit Tai Chi und Meditation
DESCRIPTION:Ehem. Franziskanerkloster
DTSTART;TZID=Europe/Berlin:20231117T180000
DTEND;TZID=Europe/Berlin:20231118T000000
LOCATION:Franziskanerplatz 1\, 84307 Eggenfelden\, Deutschland
GEO:48.405346;12.763215
X-APPLE-STRUCTURED-LOCATION;VALUE=URI;X-ADDRESS=Franziskanerplatz 1\, 84307
  Eggenfelden\, Deutschland;X-APPLE-RADIUS=49;X-TITLE=:geo:48.405346,12.763
 215
URL;VALUE=URI:https://hey.bayern/events/423537
END:VEVENT
END:VCALENDAR
