BEGIN:VCALENDAR
PRODID:-//eluceo/ical//2.0/EN
VERSION:2.0
CALSCALE:GREGORIAN
BEGIN:VEVENT
UID:hey.bayern.422687.6554279
DTSTAMP:20260422T072718Z
SUMMARY:Frühlingskonzert des Musikvereins St. Florian
DTSTART;TZID=Europe/Berlin:20260425T190000
DTEND;TZID=Europe/Berlin:20260425T210000
LOCATION:Wienerstraße 44\, 4490 St. Florian\, Österreich
GEO:48.207777;14.389015
X-APPLE-STRUCTURED-LOCATION;VALUE=URI;X-ADDRESS=Wienerstraße 44\, 4490 St.
  Florian\, Österreich;X-APPLE-RADIUS=49;X-TITLE=:geo:48.207777,14.389015
URL;VALUE=URI:https://hey.bayern/events/422687
END:VEVENT
END:VCALENDAR
