BEGIN:VCALENDAR
PRODID:-//eluceo/ical//2.0/EN
VERSION:2.0
CALSCALE:GREGORIAN
BEGIN:VEVENT
UID:hey.bayern.407449.6552393
DTSTAMP:20260419T154621Z
SUMMARY:Schatzsuche Dalaas
DTSTART;TZID=Europe/Berlin:20260911T000000
DTEND;TZID=Europe/Berlin:20260912T000000
LOCATION:Bundesstraße 59\, 6754 Klösterle\, Österreich
GEO:47.131364;10.092144
X-APPLE-STRUCTURED-LOCATION;VALUE=URI;X-ADDRESS=Bundesstraße 59\, 6754 Kl
 österle\, Österreich;X-APPLE-RADIUS=49;X-TITLE=:geo:47.131364,10.092144
URL;VALUE=URI:https://hey.bayern/events/407449
END:VEVENT
END:VCALENDAR
