BEGIN:VCALENDAR
PRODID:-//eluceo/ical//2.0/EN
VERSION:2.0
CALSCALE:GREGORIAN
BEGIN:VEVENT
UID:hey.bayern.407404.6547504
DTSTAMP:20260419T190009Z
SUMMARY:Propsteiführung durch Geschichte\, Kunst und Symbolik
DTSTART;TZID=Europe/Berlin:20260918T100000
DTEND;TZID=Europe/Berlin:20260918T111500
LOCATION:Pater-Nathanael-Weg 29\, 6722 St. Gerold\, Österreich
GEO:47.218602;9.816776
X-APPLE-STRUCTURED-LOCATION;VALUE=URI;X-ADDRESS=Pater-Nathanael-Weg 29\, 67
 22 St. Gerold\, Österreich;X-APPLE-RADIUS=49;X-TITLE=:geo:47.218602,9.816
 776
URL;VALUE=URI:https://hey.bayern/events/407404
END:VEVENT
END:VCALENDAR
