BEGIN:VCALENDAR
PRODID:-//eluceo/ical//2.0/EN
VERSION:2.0
CALSCALE:GREGORIAN
BEGIN:VEVENT
UID:hey.bayern.407317.6552094
DTSTAMP:20260419T140631Z
SUMMARY:Mountain BBQ bei Vollmond
DTSTART;TZID=Europe/Berlin:20260729T180000
DTEND;TZID=Europe/Berlin:20260729T210000
LOCATION:Bergstation Panoramabahn\, 6707 Bürserberg\, Österreich
GEO:47.128341;9.742373
X-APPLE-STRUCTURED-LOCATION;VALUE=URI;X-ADDRESS=Bergstation Panoramabahn\, 
 6707 Bürserberg\, Österreich;X-APPLE-RADIUS=49;X-TITLE=:geo:47.128341,9.
 742373
URL;VALUE=URI:https://hey.bayern/events/407317
END:VEVENT
END:VCALENDAR
