BEGIN:VCALENDAR
PRODID:-//eluceo/ical//2.0/EN
VERSION:2.0
CALSCALE:GREGORIAN
BEGIN:VEVENT
UID:hey.bayern.406938.6552411
DTSTAMP:20260419T140615Z
SUMMARY:Geführte Schluchtenwanderung „Bürser Schlucht“
DTSTART;TZID=Europe/Berlin:20260713T140000
DTEND;TZID=Europe/Berlin:20260713T170000
LOCATION:Gemeindeamt Bürs\, Dorfplatz 5\, 6706 Bürs\, Österreich
GEO:47.150107;9.801793
X-APPLE-STRUCTURED-LOCATION;VALUE=URI;X-ADDRESS=Gemeindeamt Bürs\, Dorfpla
 tz 5\, 6706 Bürs\, Österreich;X-APPLE-RADIUS=49;X-TITLE=:geo:47.150107,9
 .801793
URL;VALUE=URI:https://hey.bayern/events/406938
END:VEVENT
END:VCALENDAR
