BEGIN:VCALENDAR
PRODID:-//eluceo/ical//2.0/EN
VERSION:2.0
CALSCALE:GREGORIAN
BEGIN:VEVENT
UID:hey.bayern.406936.6551164
DTSTAMP:20260419T173033Z
SUMMARY:Geführte Gipfeltour "Schesaplana" oder "Schafgafall"
DTSTART;TZID=Europe/Berlin:20260528T081500
DTEND;TZID=Europe/Berlin:20260528T141500
LOCATION:Schattenlagant\, 6708 Brand\, Österreich
GEO:47.066176;9.755044
X-APPLE-STRUCTURED-LOCATION;VALUE=URI;X-ADDRESS=Schattenlagant\, 6708 Brand
 \, Österreich;X-APPLE-RADIUS=49;X-TITLE=:geo:47.066176,9.755044
URL;VALUE=URI:https://hey.bayern/events/406936
END:VEVENT
END:VCALENDAR
