BEGIN:VCALENDAR
PRODID:-//eluceo/ical//2.0/EN
VERSION:2.0
CALSCALE:GREGORIAN
BEGIN:VEVENT
UID:hey.bayern.406784.6550232
DTSTAMP:20260419T173043Z
SUMMARY:Bikepark Brandnertal - das 1. Mal
DTSTART;TZID=Europe/Berlin:20260707T091500
DTEND;TZID=Europe/Berlin:20260707T111500
LOCATION:Tschengla 3\, 6707 Bürserberg\, Österreich
GEO:47.110819;9.743989
X-APPLE-STRUCTURED-LOCATION;VALUE=URI;X-ADDRESS=Tschengla 3\, 6707 Bürserb
 erg\, Österreich;X-APPLE-RADIUS=49;X-TITLE=:geo:47.110819,9.743989
URL;VALUE=URI:https://hey.bayern/events/406784
END:VEVENT
END:VCALENDAR
