BEGIN:VCALENDAR
PRODID:-//eluceo/ical//2.0/EN
VERSION:2.0
CALSCALE:GREGORIAN
BEGIN:VEVENT
UID:hey.bayern.402491.6359319
DTSTAMP:20260422T030736Z
SUMMARY:Rundgang Innenhöfe & mehr
DTSTART;TZID=Europe/Berlin:20261023T160000
DTEND;TZID=Europe/Berlin:20261023T180000
URL;VALUE=URI:https://hey.bayern/events/402491
END:VEVENT
END:VCALENDAR
