BEGIN:VCALENDAR
PRODID:-//eluceo/ical//2.0/EN
VERSION:2.0
CALSCALE:GREGORIAN
BEGIN:VEVENT
UID:hey.bayern.402491.6359301
DTSTAMP:20260422T030737Z
SUMMARY:Rundgang Innenhöfe & mehr
DTSTART;TZID=Europe/Berlin:20260619T160000
DTEND;TZID=Europe/Berlin:20260619T180000
URL;VALUE=URI:https://hey.bayern/events/402491
END:VEVENT
END:VCALENDAR
